BEGIN:VCALENDAR
VERSION:2.0
PRODID:-//ChamberMaster//Event Calendar 2.0//EN
METHOD:PUBLISH
X-PUBLISHED-TTL:P1H
REFRESH-INTERVAL:P1H
CALSCALE:GREGORIAN
BEGIN:VTIMEZONE
TZID:America/Los_Angeles
BEGIN:DAYLIGHT
RRULE:FREQ=YEARLY;BYMONTH=3;BYDAY=2SU
DTSTART:20070101T000000
TZOFFSETFROM:-0800
TZOFFSETTO:-0700
TZNAME:Pacific Daylight Time
END:DAYLIGHT
BEGIN:STANDARD
RRULE:FREQ=YEARLY;BYMONTH=11;BYDAY=1SU
DTSTART:20070101T000000
TZOFFSETFROM:-0700
TZOFFSETTO:-0800
TZNAME:Pacific Standard Time
END:STANDARD
END:VTIMEZONE
BEGIN:VEVENT
DTSTART;TZID=America/Los_Angeles:20260520T080000
DTEND;TZID=America/Los_Angeles:20260522T120000
X-MICROSOFT-CDO-ALLDAYEVENT:FALSE
SUMMARY:NSAC Far Western 2026 Annual Conference
DESCRIPTION:Dust off your sunglasses and join us for the Far Western Annual Conference is heading to Palm Springs in May 2026! Designed for cooperative financial and accounting professionals\, this conference will blend:CPE-eligible education on timely industry topicsValuable networking with peers from across the regionA relaxed\, desert-inspired setting perfect for learning and connectionThink engaging sessions by day\, meaningful conversations with colleagues\, and just the right amount of Palm Springs vibe throughout.\n\nSee the full agenda here.
X-ALT-DESC;FMTTYPE=text/html:<!DOCTYPE html><html><head><title></title></head><body aria-disabled="false"><p style='box-sizing: border-box\; margin-top: 0px\; margin-bottom: 1rem\; color: rgb(33\, 37\, 41)\; font-family: -apple-system\, BlinkMacSystemFont\, "Segoe UI"\, Roboto\, "Helvetica Neue"\, Arial\, "Noto Sans"\, sans-serif\, "Apple Color Emoji"\, "Segoe UI Emoji"\, "Segoe UI Symbol"\, "Noto Color Emoji"\; font-size: 16px\; font-style: normal\; font-variant-ligatures: normal\; font-variant-caps: normal\; font-weight: 400\; letter-spacing: normal\; orphans: 2\; text-align: left\; text-indent: 0px\; text-transform: none\; widows: 2\; word-spacing: 0px\; -webkit-text-stroke-width: 0px\; white-space: normal\; background-color: rgb(255\, 255\, 255)\; text-decoration-thickness: initial\; text-decoration-style: initial\; text-decoration-color: initial\;'>Dust off your sunglasses and join us for the Far Western Annual Conference is heading to Palm Springs in May 2026!&nbsp\;</p><p style='box-sizing: border-box\; margin-top: 0px\; margin-bottom: 1rem\; color: rgb(33\, 37\, 41)\; font-family: -apple-system\, BlinkMacSystemFont\, "Segoe UI"\, Roboto\, "Helvetica Neue"\, Arial\, "Noto Sans"\, sans-serif\, "Apple Color Emoji"\, "Segoe UI Emoji"\, "Segoe UI Symbol"\, "Noto Color Emoji"\; font-size: 16px\; font-style: normal\; font-variant-ligatures: normal\; font-variant-caps: normal\; font-weight: 400\; letter-spacing: normal\; orphans: 2\; text-align: left\; text-indent: 0px\; text-transform: none\; widows: 2\; word-spacing: 0px\; -webkit-text-stroke-width: 0px\; white-space: normal\; background-color: rgb(255\, 255\, 255)\; text-decoration-thickness: initial\; text-decoration-style: initial\; text-decoration-color: initial\;'>Designed for cooperative financial and accounting professionals\, this conference will blend:</p><ul fr-original-style='box-sizing: border-box\; margin-top: 0px\; margin-bottom: 1rem\; color: rgb(33\, 37\, 41)\; font-family: -apple-system\, BlinkMacSystemFont\, "Segoe UI"\, Roboto\, "Helvetica Neue"\, Arial\, "Noto Sans"\, sans-serif\, "Apple Color Emoji"\, "Segoe UI Emoji"\, "Segoe UI Symbol"\, "Noto Color Emoji"\; font-size: 16px\; font-style: normal\; font-variant-ligatures: normal\; font-variant-caps: normal\; font-weight: 400\; letter-spacing: normal\; orphans: 2\; text-align: left\; text-indent: 0px\; text-transform: none\; widows: 2\; word-spacing: 0px\; -webkit-text-stroke-width: 0px\; white-space: normal\; background-color: rgb(255\, 255\, 255)\; text-decoration-thickness: initial\; text-decoration-style: initial\; text-decoration-color: initial\;' style='box-sizing: border-box\; margin-top: 0px\; margin-bottom: 1rem\; color: rgb(33\, 37\, 41)\; font-family: -apple-system\, BlinkMacSystemFont\, "Segoe UI"\, Roboto\, "Helvetica Neue"\, Arial\, "Noto Sans"\, sans-serif\, "Apple Color Emoji"\, "Segoe UI Emoji"\, "Segoe UI Symbol"\, "Noto Color Emoji"\; font-size: 16px\; font-style: normal\; font-variant-ligatures: normal\; font-variant-caps: normal\; font-weight: 400\; letter-spacing: normal\; orphans: 2\; text-align: left\; text-indent: 0px\; text-transform: none\; widows: 2\; word-spacing: 0px\; -webkit-text-stroke-width: 0px\; white-space: normal\; background-color: rgb(255\, 255\, 255)\; text-decoration-thickness: initial\; text-decoration-style: initial\; text-decoration-color: initial\; list-style-position: inside\;'><li style="box-sizing: border-box\;">CPE-eligible education on timely industry topics</li><li style="box-sizing: border-box\;">Valuable networking with peers from across the region</li><li style="box-sizing: border-box\;">A relaxed\, desert-inspired setting perfect for learning and connection</li></ul><p style='box-sizing: border-box\; margin-top: 0px\; margin-bottom: 1rem\; color: rgb(33\, 37\, 41)\; font-family: -apple-system\, BlinkMacSystemFont\, "Segoe UI"\, Roboto\, "Helvetica Neue"\, Arial\, "Noto Sans"\, sans-serif\, "Apple Color Emoji"\, "Segoe UI Emoji"\, "Segoe UI Symbol"\, "Noto Color Emoji"\; font-size: 16px\; font-style: normal\; font-variant-ligatures: normal\; font-variant-caps: normal\; font-weight: 400\; letter-spacing: normal\; orphans: 2\; text-align: left\; text-indent: 0px\; text-transform: none\; widows: 2\; word-spacing: 0px\; -webkit-text-stroke-width: 0px\; white-space: normal\; background-color: rgb(255\, 255\, 255)\; text-decoration-thickness: initial\; text-decoration-style: initial\; text-decoration-color: initial\;'>Think engaging sessions by day\, meaningful conversations with colleagues\, and just the right amount of Palm Springs vibe throughout.<br><br>See the full agenda <a fr-original-style="" href="https://nsacoop.org/conference/chapter/fw2026" style="user-select: auto\;">here.</a>&nbsp\;</p></body></html>
LOCATION:888 Tahquitz Canyon Way Palm Springs CA 92262
UID:e.3767.1444175
SEQUENCE:3
DTSTAMP:20260420T061330Z
URL:https://nationalsocietyofaccountantsforcooperatives.growthzoneapp.com/eventcalendar/Details/nsac-far-western-2026-annual-conference-1710543?sourceTypeId=Hub
END:VEVENT
END:VCALENDAR
